BEGIN:VCALENDAR
VERSION:2.0
PRODID:-//eventon.com NONSGML v1.0//EN
CALSCALE:GREGORIAN
METHOD:PUBLISH
BEGIN:VEVENT
UID:69e6016a5606a
DTSTAMP:20260420T103522Z
DTSTART:20230910T180000Z
DTEND:20230910T193000Z
LOCATION:
SUMMARY:Tacoma Woori Church
DESCRIPTION:David is preaching at Tacoma Woori Church at the church&#8217;s
  6th-anniversary celebration.  Please pray that David will receive the rig
 ht message from the Lord and deliver the message most powerfully. https://w
 ww.tacomawoorichurch.com/\nhttps://dcmi.org/events/tacoma-woori-church-3/
URL:https://dcmi.org/events/tacoma-woori-church-3/
END:VEVENT
END:VCALENDAR