BEGIN:VCALENDAR
VERSION:2.0
PRODID:-//eventon.com NONSGML v1.0//EN
CALSCALE:GREGORIAN
METHOD:PUBLISH
BEGIN:VEVENT
UID:69e6384a03d01
DTSTAMP:20260420T142930Z
DTSTART:20231023T200000Z
DTEND:20231029T040000Z
LOCATION:
SUMMARY:세네갈 다카 ATI
DESCRIPTION:정태회 선교사는 세네갈의 수도 다카에 소재한 
 American Theological Seminary (ATI) 에서 지도자 개발에 대해 강
 합니다.\nhttps://dcmi.org/events/%ec%84%b8%eb%84%a4%ea%b0%88-%eb%8b%a4%
 ec%b9%b4/
URL:https://dcmi.org/events/%ec%84%b8%eb%84%a4%ea%b0%88-%eb%8b%a4%ec%b9%b4/
END:VEVENT
END:VCALENDAR