BEGIN:VCALENDAR
VERSION:2.0
PRODID:-//eventon.com NONSGML v1.0//EN
CALSCALE:GREGORIAN
METHOD:PUBLISH
BEGIN:VEVENT
UID:69e737902287b
DTSTAMP:20260421T083840Z
DTSTART:20240429T013000Z
DTEND:20240429T030000Z
LOCATION:
SUMMARY:Lighthouse Church
DESCRIPTION:David is holding a leadership development seminar for the churc
 h leaders.\nhttps://dcmi.org/events/lighthouse-church-federal-way/
URL:https://dcmi.org/events/lighthouse-church-federal-way/
END:VEVENT
END:VCALENDAR