BEGIN:VCALENDAR
VERSION:2.0
PRODID:-//eventon.com NONSGML v1.0//EN
CALSCALE:GREGORIAN
METHOD:PUBLISH
BEGIN:VEVENT
UID:69e5e96193b2f
DTSTAMP:20260420T085249Z
DTSTART:20240323T130000Z
DTEND:20240323T150000Z
LOCATION:
SUMMARY:서번트 브릿지
DESCRIPTION:정태회 선교사는 서번트 브릿지의 스태프를 격
 합니다.  서번트 브릿지는 청소년 선교단체로 2021년에
  국민일보 주최 ‘기독교교육 브랜드 대상’을 수상하
 습니다.  서번트 브리지는 올 12월 캄보디아 시소폰 전
 대회에 DCMi 와 함께합니다. http://servantbridge.org/?page_id=482
 5 https://www.kmib.co.kr/article/view.asp?arcid=0924222966\nhttps://dcmi.or
 g/events/%ec%84%9c%eb%b2%88%ed%8a%b8-%eb%b8%8c%eb%a6%bf%ec%a7%80/
URL:https://dcmi.org/events/%ec%84%9c%eb%b2%88%ed%8a%b8-%eb%b8%8c%eb%a6%bf%ec%a7%80/
END:VEVENT
END:VCALENDAR