BEGIN:VCALENDAR
VERSION:2.0
PRODID:-//eventon.com NONSGML v1.0//EN
CALSCALE:GREGORIAN
METHOD:PUBLISH
BEGIN:VEVENT
UID:69e9754d9aff8
DTSTAMP:20260423T012637Z
DTSTART:20250127T110000Z
DTEND:20250127T123000Z
LOCATION:
SUMMARY:반석침례교회
DESCRIPTION:정태회 선교사는 오랜 후원교회인 슈리브포트 
 석침례교회의 주일 예배에서 말씀을 전했습니다.  주
  오후에는 반석침례교회를 지난 29년간 섬기신 이용구 
 사님과 신임 목회자인 김신일 목사님의 이취임식 예배
  참석하셨습니다.\nhttps://dcmi.org/events/%eb%b0%98%ec%84%9d%ec%b9%
 a8%eb%a1%80%ea%b5%90%ed%9a%8c/
URL:https://dcmi.org/events/%eb%b0%98%ec%84%9d%ec%b9%a8%eb%a1%80%ea%b5%90%ed%9a%8c/
END:VEVENT
END:VCALENDAR