BEGIN:VCALENDAR
VERSION:2.0
PRODID:-//eventon.com NONSGML v1.0//EN
CALSCALE:GREGORIAN
METHOD:PUBLISH
BEGIN:VEVENT
UID:69eca99232296
DTSTAMP:20260425T114626Z
DTSTART:20250601T230000Z
DTEND:20250601T123000Z
LOCATION:
SUMMARY:페드럴웨이 제일장로교회
DESCRIPTION:정태회 선교사는 페드럴웨이에 소재한 제일장
 교회 주일예배에서 말씀을 전합니다.\nhttps://dcmi.org/events
 /%ed%8e%98%eb%93%9c%eb%9f%b4%ec%9b%a8%ec%9d%b4-%ec%a0%9c%ec%9d%bc%ec%9e%a5%
 eb%a1%9c%ea%b5%90%ed%9a%8c/
URL:https://dcmi.org/events/%ed%8e%98%eb%93%9c%eb%9f%b4%ec%9b%a8%ec%9d%b4-%ec%a0%9c%ec%9d%bc%ec%9e%a5%eb%a1%9c%ea%b5%90%ed%9a%8c/
END:VEVENT
END:VCALENDAR