BEGIN:VCALENDAR
VERSION:2.0
PRODID:-//eventon.com NONSGML v1.0//EN
CALSCALE:GREGORIAN
METHOD:PUBLISH
BEGIN:VEVENT
UID:69ed54b7a15c3
DTSTAMP:20260425T235639Z
DTSTART:20210605T170000Z
DTEND:20210606T120000Z
LOCATION:
SUMMARY:Grace Community Church
DESCRIPTION:David is scheduled to preach at Grace Community Church on June 
 5 and 6.  Would you pray that the Lord will give David the right message f
 or Grace Community Church?  Please pray God&#8217;s anointing on David&#82
 17;s Message as well.\nhttps://dcmi.org/events/grace-community-church/
URL:https://dcmi.org/events/grace-community-church/
END:VEVENT
END:VCALENDAR