BEGIN:VCALENDAR
VERSION:2.0
PRODID:-//eventon.com NONSGML v1.0//EN
CALSCALE:GREGORIAN
METHOD:PUBLISH
BEGIN:VEVENT
UID:69e5fea4e57eb
DTSTAMP:20260420T102332Z
DTSTART:20210825T225800Z
DTEND:20210825T225800Z
LOCATION:
SUMMARY:Tacoma Woori Church
DESCRIPTION:On August 29th\,  David is speaking at Woori Church&#8217;s New
  Leadership Training Conference in Tacoma\,  Washington.\nhttps://dcmi.org/
 events/tacoma-woori-church/
URL:https://dcmi.org/events/tacoma-woori-church/
END:VEVENT
END:VCALENDAR