BEGIN:VCALENDAR
VERSION:2.0
PRODID:-//eventon.com NONSGML v1.0//EN
CALSCALE:GREGORIAN
METHOD:PUBLISH
BEGIN:VEVENT
UID:69e5e8d76c8ed
DTSTAMP:20260420T085031Z
DTSTART:20211104T100000Z
DTEND:20211104T120000Z
LOCATION:
SUMMARY:선교 세미나
DESCRIPTION:정태회선교사는 조이플 선교회의 정기 기도모
 에서 선교세미나를 인도합니다.  기도해 주십시오. http:
 //www.joyfulmission.org/\nhttps://dcmi.org/events/%ec%84%a0%ea%b5%90-%ec%84
 %b8%eb%af%b8%eb%82%98/
URL:https://dcmi.org/events/%ec%84%a0%ea%b5%90-%ec%84%b8%eb%af%b8%eb%82%98/
END:VEVENT
END:VCALENDAR