BEGIN:VCALENDAR
VERSION:2.0
PRODID:-//eventon.com NONSGML v1.0//EN
CALSCALE:GREGORIAN
METHOD:PUBLISH
BEGIN:VEVENT
UID:69e5e961203f0
DTSTAMP:20260420T085249Z
DTSTART:20220421T190000Z
DTEND:20220811T210000Z
LOCATION:
SUMMARY:기초 제자훈련반 II
DESCRIPTION:정태회 선교사는 그레이스 교회에서 기초 제자
 련반 I 에 이어 기초 제자훈련반 II 를 인도합니다.  이
  통해 제자 양육자가 개발될 수 있도록 기도해 주십시
 .\nhttps://dcmi.org/events/%ea%b8%b0%ec%b4%88-%ec%a0%9c%ec%9e%90%ed%9b%88%
 eb%a0%a8%eb%b0%98-ii/
URL:https://dcmi.org/events/%ea%b8%b0%ec%b4%88-%ec%a0%9c%ec%9e%90%ed%9b%88%eb%a0%a8%eb%b0%98-ii/
END:VEVENT
END:VCALENDAR