BEGIN:VCALENDAR
VERSION:2.0
PRODID:-//eventon.com NONSGML v1.0//EN
CALSCALE:GREGORIAN
METHOD:PUBLISH
BEGIN:VEVENT
UID:69e7384fb42d0
DTSTAMP:20260421T084151Z
DTSTART:20220529T103000Z
DTEND:20220529T122000Z
LOCATION:
SUMMARY:파리 아르퀘이--까샹 침례교회
DESCRIPTION:정태회 선교사는 프랑스 파리에 소재한아르퀘
 &#8211;까샹 침례교회의 주일예배에 말씀을 전합니다.  
  교회에 주시는 말씀을 받아 힘있게 전할 수 있도록 기
 해 주십시오.  아프리카 사역을 마친 뒤 무사히 프랑스
  입국할 수 있도록 기도해 주십시오.\nhttps://dcmi.org/events
 /%ed%8c%8c%eb%a6%ac-%ec%95%84%eb%a5%b4%ed%80%98%ec%9d%b4-%ea%b9%8c%ec%83%b9
 -%ec%b9%a8%eb%a1%80%ea%b5%90%ed%9a%8c/
URL:https://dcmi.org/events/%ed%8c%8c%eb%a6%ac-%ec%95%84%eb%a5%b4%ed%80%98%ec%9d%b4-%ea%b9%8c%ec%83%b9-%ec%b9%a8%eb%a1%80%ea%b5%90%ed%9a%8c/
END:VEVENT
END:VCALENDAR