BEGIN:VCALENDAR
VERSION:2.0
PRODID:-//eventon.com NONSGML v1.0//EN
CALSCALE:GREGORIAN
METHOD:PUBLISH
BEGIN:VEVENT
UID:69e7d6212487b
DTSTAMP:20260421T195513Z
DTSTART:20230405
DTEND:20230406
LOCATION:
SUMMARY:Cambodia
DESCRIPTION:April 5-12\,  David and Larry will be serving in Cambodia. In 2
 019\,  DCMi started preparing for a Gospel Festival in Sisophon\,  Banteay 
 Meanchey\,  but due to the Pandemic\,  the whole plan has been suspended. 
  We are resuming the work from this year.  Our goal is to hold the Sisopho
 n Gospel[..]\nhttps://dcmi.org/events/cambodia-ministry/
URL:https://dcmi.org/events/cambodia-ministry/
END:VEVENT
END:VCALENDAR